BEGIN:VCALENDAR
VERSION:2.0
PRODID:-//Olivet Baptist Church - ECPv6.15.20//NONSGML v1.0//EN
CALSCALE:GREGORIAN
METHOD:PUBLISH
X-WR-CALNAME:Olivet Baptist Church
X-ORIGINAL-URL:https://olivetbaptistchurch.org
X-WR-CALDESC:Events for Olivet Baptist Church
REFRESH-INTERVAL;VALUE=DURATION:PT1H
X-Robots-Tag:noindex
X-PUBLISHED-TTL:PT1H
BEGIN:VTIMEZONE
TZID:America/New_York
BEGIN:DAYLIGHT
TZOFFSETFROM:-0500
TZOFFSETTO:-0400
TZNAME:EDT
DTSTART:20230312T070000
END:DAYLIGHT
BEGIN:STANDARD
TZOFFSETFROM:-0400
TZOFFSETTO:-0500
TZNAME:EST
DTSTART:20231105T060000
END:STANDARD
BEGIN:DAYLIGHT
TZOFFSETFROM:-0500
TZOFFSETTO:-0400
TZNAME:EDT
DTSTART:20240310T070000
END:DAYLIGHT
BEGIN:STANDARD
TZOFFSETFROM:-0400
TZOFFSETTO:-0500
TZNAME:EST
DTSTART:20241103T060000
END:STANDARD
BEGIN:DAYLIGHT
TZOFFSETFROM:-0500
TZOFFSETTO:-0400
TZNAME:EDT
DTSTART:20250309T070000
END:DAYLIGHT
BEGIN:STANDARD
TZOFFSETFROM:-0400
TZOFFSETTO:-0500
TZNAME:EST
DTSTART:20251102T060000
END:STANDARD
BEGIN:DAYLIGHT
TZOFFSETFROM:-0500
TZOFFSETTO:-0400
TZNAME:EDT
DTSTART:20260308T070000
END:DAYLIGHT
BEGIN:STANDARD
TZOFFSETFROM:-0400
TZOFFSETTO:-0500
TZNAME:EST
DTSTART:20261101T060000
END:STANDARD
BEGIN:DAYLIGHT
TZOFFSETFROM:-0500
TZOFFSETTO:-0400
TZNAME:EDT
DTSTART:20270314T070000
END:DAYLIGHT
BEGIN:STANDARD
TZOFFSETFROM:-0400
TZOFFSETTO:-0500
TZNAME:EST
DTSTART:20271107T060000
END:STANDARD
END:VTIMEZONE
BEGIN:VEVENT
DTSTART;TZID=America/New_York:20241205T190000
DTEND;TZID=America/New_York:20241205T200000
DTSTAMP:20260425T121342
CREATED:20241109T164536Z
LAST-MODIFIED:20241109T164629Z
UID:11048-1733425200-1733428800@olivetbaptistchurch.org
SUMMARY:Missionaries Eric & Lisa Kreh
DESCRIPTION:Join us to hear from Eric and Lisa Kreh\, our missionaries to the Netherlands\, as they share stories of their work spreading faith in a diverse culture.
URL:https://olivetbaptistchurch.org/events/missionaries-eric-lisa-kreh/
ATTACH;FMTTYPE=image/png:https://olivetbaptistchurch.org/wp-content/uploads/2024/11/EricLisa-Kreh.png
END:VEVENT
BEGIN:VEVENT
DTSTART;TZID=America/New_York:20241222T100000
DTEND;TZID=America/New_York:20241222T110000
DTSTAMP:20260425T121342
CREATED:20241215T211807Z
LAST-MODIFIED:20241215T211807Z
UID:11063-1734861600-1734865200@olivetbaptistchurch.org
SUMMARY:Teen Christmas Party
DESCRIPTION:
URL:https://olivetbaptistchurch.org/events/teen-christmas-party/
ATTACH;FMTTYPE=image/png:https://olivetbaptistchurch.org/wp-content/uploads/2024/12/OBC-Teen-Christmas.png
END:VEVENT
BEGIN:VEVENT
DTSTART;TZID=America/New_York:20250112T110000
DTEND;TZID=America/New_York:20250112T120000
DTSTAMP:20260425T121342
CREATED:20241215T131755Z
LAST-MODIFIED:20241215T131907Z
UID:11067-1736679600-1736683200@olivetbaptistchurch.org
SUMMARY:Missionary to South Africa Jim Foster
DESCRIPTION:Jim and Kristina Foster are our missionaries serving in the Cape of Good Hope\, South Africa. They will be visiting to share updates and insights from their mission work.
URL:https://olivetbaptistchurch.org/events/missionary-to-south-africa-jim-foster/
ATTACH;FMTTYPE=image/jpeg:https://olivetbaptistchurch.org/wp-content/uploads/2024/12/JimKristina-Foster.jpeg
END:VEVENT
BEGIN:VEVENT
DTSTART;TZID=America/New_York:20250706T110000
DTEND;TZID=America/New_York:20250706T120000
DTSTAMP:20260425T121342
CREATED:20250607T145919Z
LAST-MODIFIED:20250607T145919Z
UID:11316-1751799600-1751803200@olivetbaptistchurch.org
SUMMARY:Rolando Pacong - Missionary to the Philippines
DESCRIPTION:We are honored to welcome Bro. Rolando Pacong\, missionary to the Philippines\, for his first visit to our church on July 6 at 11 AM. Bro. Pacong will be introducing us to the heart of his ministry\, sharing his calling\, vision\, and the work God has laid on his heart to reach the people of the Philippines.
URL:https://olivetbaptistchurch.org/events/rolando-pacong-missionary-to-the-philippines/
ATTACH;FMTTYPE=image/png:https://olivetbaptistchurch.org/wp-content/uploads/2025/06/Rolando-Pacong-Philippines.png
END:VEVENT
BEGIN:VEVENT
DTSTART;VALUE=DATE:20250713
DTEND;VALUE=DATE:20250714
DTSTAMP:20260425T121342
CREATED:20250518T150047Z
LAST-MODIFIED:20250608T132951Z
UID:11097-1752364800-1752451199@olivetbaptistchurch.org
SUMMARY:James Ruckman - Missionary to West Africa
DESCRIPTION:Join us on Sunday\, July 13th at 11:00 AM and 6:00 PM as Bro. James Ruckman\, missionary to West Africa\, shares the work God is doing through his ministry. Bro. Ruckman and his family are dedicated to preaching Christ and planting churches throughout West Africa\, particularly in Ghana. Through the Hope of Africa Baptist Ministry\, they focus on evangelizing unreached villages\, discipling new believers\, training local pastors\, and constructing church buildings. Additionally\, they are establishing Calvary’s Hope Academy\, a boarding school aimed at providing education and spiritual guidance to homeless and orphaned children.
URL:https://olivetbaptistchurch.org/events/guest-speaker-peter-bard-and-family-2/
ATTACH;FMTTYPE=image/png:https://olivetbaptistchurch.org/wp-content/uploads/2025/05/James-Ruckman.png
END:VEVENT
BEGIN:VEVENT
DTSTART;TZID=America/New_York:20250921T110000
DTEND;TZID=America/New_York:20250921T120000
DTSTAMP:20260425T121342
CREATED:20250817T025809Z
LAST-MODIFIED:20250817T025939Z
UID:11349-1758452400-1758456000@olivetbaptistchurch.org
SUMMARY:Believers' Baptism
DESCRIPTION:Our church family is excited to witness and celebrate the baptism of those who have trusted Jesus as their Savior and desire to proclaim their faith publicly! Come and rejoice with us as we share in this special step of a believer’s walk with Christ.
URL:https://olivetbaptistchurch.org/events/believers-baptism/
ATTACH;FMTTYPE=image/png:https://olivetbaptistchurch.org/wp-content/uploads/2025/08/Baptism.png
END:VEVENT
BEGIN:VEVENT
DTSTART;TZID=America/New_York:20251005T110000
DTEND;TZID=America/New_York:20251005T120000
DTSTAMP:20260425T121342
CREATED:20250817T015829Z
LAST-MODIFIED:20250817T020014Z
UID:11346-1759662000-1759665600@olivetbaptistchurch.org
SUMMARY:Clay Wanner - Missionary to the Philippines
DESCRIPTION:The Wanner family\, sent by Grace Baptist Church in Ocean Springs\, Mississippi\, are missionaries preparing to serve in the Philippines. They are currently on deputation\, sharing their ministry vision and seeking partners to support their work in spreading the Gospel. We are looking forward to welcoming them and hearing more about their ministry during their visit with us.
URL:https://olivetbaptistchurch.org/events/clay-wanner-missionary-to-the-philippines/
CATEGORIES:Missionary Visits
ATTACH;FMTTYPE=image/png:https://olivetbaptistchurch.org/wp-content/uploads/2025/08/Wanner-Family.png
END:VEVENT
BEGIN:VEVENT
DTSTART;TZID=America/New_York:20251026T100000
DTEND;TZID=America/New_York:20251026T110000
DTSTAMP:20260425T121342
CREATED:20240921T171009Z
LAST-MODIFIED:20251016T185702Z
UID:11020-1761472800-1761476400@olivetbaptistchurch.org
SUMMARY:Shoebox Packing Event
DESCRIPTION:Join us for the Operation Christmas Shoebox Packing Event on Sunday\, October 26\, at the Church starting at 10 AM. This is a wonderful opportunity to share in fellowship and pack a shoebox filled with love for children in need. We deeply appreciate your continued support and enthusiasm for this heartwarming project\, and we can’t wait to see you there!
URL:https://olivetbaptistchurch.org/events/operation-christmas-child-shoebox-packing/
ATTACH;FMTTYPE=image/png:https://olivetbaptistchurch.org/wp-content/uploads/2024/09/Shoebox-Ministry.png
END:VEVENT
BEGIN:VEVENT
DTSTART;VALUE=DATE:20251130
DTEND;VALUE=DATE:20251201
DTSTAMP:20260425T121342
CREATED:20250504T011807Z
LAST-MODIFIED:20250930T160755Z
UID:11292-1764460800-1764547199@olivetbaptistchurch.org
SUMMARY:Guest Speaker Peter Bard
DESCRIPTION:We are delighted to welcome Pastor Peter Bard and his family as our guests this Sunday! Pastor Bard will be bringing the message\, and we look forward to a wonderful day of worship and fellowship together. We hope you’ll join us!
URL:https://olivetbaptistchurch.org/events/guest-speaker-peter-bard/
CATEGORIES:Guest Speaker
ATTACH;FMTTYPE=image/png:https://olivetbaptistchurch.org/wp-content/uploads/2025/05/Peter-Bard-family.png
END:VEVENT
BEGIN:VEVENT
DTSTART;TZID=America/New_York:20251214T110000
DTEND;TZID=America/New_York:20251214T110000
DTSTAMP:20260425T121342
CREATED:20231125T004328Z
LAST-MODIFIED:20251102T212305Z
UID:10656-1765710000-1765710000@olivetbaptistchurch.org
SUMMARY:Missionary Matthew Frank with Rock of Ages Prison Ministry
DESCRIPTION:We’re pleased to welcome Missionary Matthew Frank with Rock of Ages Prison Ministry as our guest speaker on Sunday\, December 14. He will be ministering in both the Morning and Evening services.
URL:https://olivetbaptistchurch.org/events/missionary-matthew-frank-with-rock-of-ages-prison-ministry/
ATTACH;FMTTYPE=image/png:https://olivetbaptistchurch.org/wp-content/uploads/2023/11/Matthew-Frank-family-2-1.png
END:VEVENT
BEGIN:VEVENT
DTSTART;TZID=America/New_York:20251221T180000
DTEND;TZID=America/New_York:20251221T190000
DTSTAMP:20260425T121342
CREATED:20251214T213511Z
LAST-MODIFIED:20251214T213511Z
UID:11440-1766340000-1766343600@olivetbaptistchurch.org
SUMMARY:Christmas Program
DESCRIPTION:Join us for a joyful Christmas program presented by the children and teens of our church.
URL:https://olivetbaptistchurch.org/events/christmas-program/
CATEGORIES:Christmas Program
ATTACH;FMTTYPE=image/jpeg:https://olivetbaptistchurch.org/wp-content/uploads/2025/12/Christmas-Program-2.jpg
END:VEVENT
BEGIN:VEVENT
DTSTART;VALUE=DATE:20260111
DTEND;VALUE=DATE:20260112
DTSTAMP:20260425T121342
CREATED:20260111T023629Z
LAST-MODIFIED:20260111T023705Z
UID:11461-1768089600-1768175999@olivetbaptistchurch.org
SUMMARY:Guest Speaker Peter Bard
DESCRIPTION:We are pleased to welcome Pastor Peter Bard and his family as our guests this Sunday. Pastor Bard will be preaching the morning and evening message\, and we look forward to a wonderful day of worship and fellowship together. We hope you’ll join us!
URL:https://olivetbaptistchurch.org/events/guest-speaker-peter-bard-2/
ATTACH;FMTTYPE=image/png:https://olivetbaptistchurch.org/wp-content/uploads/2025/05/Peter-Bard-family.png
END:VEVENT
BEGIN:VEVENT
DTSTART;TZID=America/New_York:20260206T180000
DTEND;TZID=America/New_York:20260206T200000
DTSTAMP:20260425T121342
CREATED:20260117T155128Z
LAST-MODIFIED:20260117T162417Z
UID:11469-1770400800-1770408000@olivetbaptistchurch.org
SUMMARY:OBC Teen Game Night
DESCRIPTION:Join us for a fun evening of pizza and games at OBC Teen Game Night! Bring your competitive spirit\, your favorite board game\, and a friend. This is a great opportunity for teens to relax\, connect\, and enjoy fellowship together.
URL:https://olivetbaptistchurch.org/events/obc-teen-game-night/
ATTACH;FMTTYPE=image/png:https://olivetbaptistchurch.org/wp-content/uploads/2026/01/Teen-Game-Night.png
END:VEVENT
BEGIN:VEVENT
DTSTART;TZID=America/New_York:20260329T180000
DTEND;TZID=America/New_York:20260329T190000
DTSTAMP:20260425T121342
CREATED:20240204T204238Z
LAST-MODIFIED:20260125T121742Z
UID:10691-1774807200-1774810800@olivetbaptistchurch.org
SUMMARY:Annual Church Business Meeting
DESCRIPTION:Please join us for our Annual Church Business Meeting on Sunday evening\, March 29th at 6 pm\, followed by a time of fellowship. Food and fellowship to follow. We hope to see you there.
URL:https://olivetbaptistchurch.org/events/annual-church-business-meeting-3/
ATTACH;FMTTYPE=image/png:https://olivetbaptistchurch.org/wp-content/uploads/2024/02/Church-Business-Meeting.png
END:VEVENT
BEGIN:VEVENT
DTSTART;TZID=America/New_York:20260607T110000
DTEND;TZID=America/New_York:20260607T120000
DTSTAMP:20260425T121342
CREATED:20260411T223011Z
LAST-MODIFIED:20260411T230519Z
UID:11518-1780830000-1780833600@olivetbaptistchurch.org
SUMMARY:Missionary to South Africa Jim Foster
DESCRIPTION:Please join us in welcoming Bro. Jim Foster and his wife\, Kristina\, on Sunday morning\, June 7. They are serving in the Cape of Good Hope\, South Africa\, and will be sharing an update on their mission work.
URL:https://olivetbaptistchurch.org/events/missionary-to-south-africa-jim-foster-2/
ATTACH;FMTTYPE=image/jpeg:https://olivetbaptistchurch.org/wp-content/uploads/2024/12/JimKristina-Foster.jpeg
END:VEVENT
END:VCALENDAR